BEGIN:VCALENDAR
VERSION:2.0
PRODID:-//EM-futis 2024 - ECPv6.15.20//NONSGML v1.0//EN
CALSCALE:GREGORIAN
METHOD:PUBLISH
X-WR-CALNAME:EM-futis 2024
X-ORIGINAL-URL:https://emfutis2024.mixtuura.fi
X-WR-CALDESC:Tapahtumat EM-futis 2024
REFRESH-INTERVAL;VALUE=DURATION:PT1H
X-Robots-Tag:noindex
X-PUBLISHED-TTL:PT1H
BEGIN:VTIMEZONE
TZID:Europe/Helsinki
BEGIN:DAYLIGHT
TZOFFSETFROM:+0200
TZOFFSETTO:+0300
TZNAME:EEST
DTSTART:20230326T010000
END:DAYLIGHT
BEGIN:STANDARD
TZOFFSETFROM:+0300
TZOFFSETTO:+0200
TZNAME:EET
DTSTART:20231029T010000
END:STANDARD
BEGIN:DAYLIGHT
TZOFFSETFROM:+0200
TZOFFSETTO:+0300
TZNAME:EEST
DTSTART:20240331T010000
END:DAYLIGHT
BEGIN:STANDARD
TZOFFSETFROM:+0300
TZOFFSETTO:+0200
TZNAME:EET
DTSTART:20241027T010000
END:STANDARD
BEGIN:DAYLIGHT
TZOFFSETFROM:+0200
TZOFFSETTO:+0300
TZNAME:EEST
DTSTART:20250330T010000
END:DAYLIGHT
BEGIN:STANDARD
TZOFFSETFROM:+0300
TZOFFSETTO:+0200
TZNAME:EET
DTSTART:20251026T010000
END:STANDARD
END:VTIMEZONE
BEGIN:VEVENT
DTSTART;TZID=Europe/Helsinki:20240623T220000
DTEND;TZID=Europe/Helsinki:20240623T234500
DTSTAMP:20260422T143532
CREATED:20240604T165055Z
LAST-MODIFIED:20240604T165132Z
UID:10000159-1719180000-1719186300@emfutis2024.mixtuura.fi
SUMMARY:Skotlanti - Unkari\, lohko A
DESCRIPTION:alkusarjan ottelu \n3. kierros \n 
URL:https://emfutis2024.mixtuura.fi/tapahtuma/skotlanti-unkari-lohko-a/
LOCATION:Stuttgart: Mercedes-Benz Arena\, Stuttgart: Mercedes-Benz Arena\, Stuttgart\, Saksa
CATEGORIES:Lohko A,ottelut
ATTACH;FMTTYPE=image/jpeg:https://emfutis2024.mixtuura.fi/wp-content/uploads/2024/06/zsv7ceb46li.jpg
END:VEVENT
BEGIN:VEVENT
DTSTART;TZID=Europe/Helsinki:20240623T220000
DTEND;TZID=Europe/Helsinki:20240623T234500
DTSTAMP:20260422T143532
CREATED:20240604T164926Z
LAST-MODIFIED:20240604T164926Z
UID:10000158-1719180000-1719186300@emfutis2024.mixtuura.fi
SUMMARY:Sveitsi - Saksa\, lohko A
DESCRIPTION:alkusarjan ottelu \n3. kierros
URL:https://emfutis2024.mixtuura.fi/tapahtuma/sveitsi-saksa-lohko-a/
LOCATION:Frankfurt: Waldstadion\, Frankfurt: Waldstadion\, Frankfurt\, Saksa
CATEGORIES:Lohko A,ottelut
ATTACH;FMTTYPE=image/jpeg:https://emfutis2024.mixtuura.fi/wp-content/uploads/2024/06/ledre7sw99e.jpg
END:VEVENT
BEGIN:VEVENT
DTSTART;TZID=Europe/Helsinki:20240622T220000
DTEND;TZID=Europe/Helsinki:20240622T234500
DTSTAMP:20260422T143532
CREATED:20240604T164455Z
LAST-MODIFIED:20240604T164455Z
UID:10000157-1719093600-1719099900@emfutis2024.mixtuura.fi
SUMMARY:Belgia - Romania\, lohko E
DESCRIPTION:alkusarjan ottelu \n2. kierros \n 
URL:https://emfutis2024.mixtuura.fi/tapahtuma/belgia-romania-lohko-e/
LOCATION:Köln: RheinEnergieStadion\, Köln: RheinEnergieStadion\, Köln\, Saksa
CATEGORIES:Lohko E,ottelut
ATTACH;FMTTYPE=image/jpeg:https://emfutis2024.mixtuura.fi/wp-content/uploads/2024/06/96w_aqcd8tk.jpg
END:VEVENT
BEGIN:VEVENT
DTSTART;TZID=Europe/Helsinki:20240622T190000
DTEND;TZID=Europe/Helsinki:20240622T204500
DTSTAMP:20260422T143532
CREATED:20240604T164237Z
LAST-MODIFIED:20240604T164237Z
UID:10000156-1719082800-1719089100@emfutis2024.mixtuura.fi
SUMMARY:Turkki - Portugali\, lohko F
DESCRIPTION:alkusarjan ottelu \n2. kierros \n 
URL:https://emfutis2024.mixtuura.fi/tapahtuma/turkki-portugali-lohko-f/
LOCATION:Dortmund: Westfalenstadion
CATEGORIES:Lohko F,ottelut
ATTACH;FMTTYPE=image/jpeg:https://emfutis2024.mixtuura.fi/wp-content/uploads/2024/06/emndy44fus8.jpg
END:VEVENT
BEGIN:VEVENT
DTSTART;TZID=Europe/Helsinki:20240622T160000
DTEND;TZID=Europe/Helsinki:20240622T174500
DTSTAMP:20260422T143532
CREATED:20240604T164120Z
LAST-MODIFIED:20240604T164120Z
UID:10000155-1719072000-1719078300@emfutis2024.mixtuura.fi
SUMMARY:Georgia - Tsekki\, lohko F
DESCRIPTION:alkusarjan otttelu \n2. kierros \n 
URL:https://emfutis2024.mixtuura.fi/tapahtuma/georgia-tsekki-lohko-f/
LOCATION:Hampuri: Volksparkstadion\, Hampuri: Volksparkstadion\, Hampuri\, Saksa
CATEGORIES:Lohko F,ottelut
ATTACH;FMTTYPE=image/jpeg:https://emfutis2024.mixtuura.fi/wp-content/uploads/2024/06/f3lwc6ww70.jpg
END:VEVENT
BEGIN:VEVENT
DTSTART;TZID=Europe/Helsinki:20240621T220000
DTEND;TZID=Europe/Helsinki:20240621T234500
DTSTAMP:20260422T143532
CREATED:20240604T163846Z
LAST-MODIFIED:20240604T163846Z
UID:10000154-1719007200-1719013500@emfutis2024.mixtuura.fi
SUMMARY:Hollanti - Ranska\, lohko D
DESCRIPTION:alkusarjan ottelu \n2. kierros \n 
URL:https://emfutis2024.mixtuura.fi/tapahtuma/hollanti-ranska-lohko-d/
LOCATION:Leipzig: Red Bull Arena\, Leipzig: Red Bull Arena\, Leipzig\, Saksa
CATEGORIES:Lohko D,ottelut
ATTACH;FMTTYPE=image/jpeg:https://emfutis2024.mixtuura.fi/wp-content/uploads/2024/06/kjzk7cmge6w.jpg
END:VEVENT
BEGIN:VEVENT
DTSTART;TZID=Europe/Helsinki:20240621T190000
DTEND;TZID=Europe/Helsinki:20240621T204500
DTSTAMP:20260422T143532
CREATED:20240604T163714Z
LAST-MODIFIED:20240604T163714Z
UID:10000153-1718996400-1719002700@emfutis2024.mixtuura.fi
SUMMARY:Puola - Itävalta\, lohko D
DESCRIPTION:alkusarjan ottelu \n2. kierros \n 
URL:https://emfutis2024.mixtuura.fi/tapahtuma/puola-itavalta-lohko-d/
LOCATION:Berliini: Olympiastadion\, Olympiastadion Berlin\, Olympischer Platz 3\, 14053 Berlin\, Germany\, Berliini\, Saksa
CATEGORIES:Lohko D,ottelut
ATTACH;FMTTYPE=image/jpeg:https://emfutis2024.mixtuura.fi/wp-content/uploads/2024/06/vgh6z1zco6s.jpg
END:VEVENT
BEGIN:VEVENT
DTSTART;TZID=Europe/Helsinki:20240621T160000
DTEND;TZID=Europe/Helsinki:20240621T174500
DTSTAMP:20260422T143532
CREATED:20240604T163450Z
LAST-MODIFIED:20240604T170814Z
UID:10000152-1718985600-1718991900@emfutis2024.mixtuura.fi
SUMMARY:Slovakia - Ukraina\, lohko E
DESCRIPTION:alkusarjan ottelu \nkierros 2 \n 
URL:https://emfutis2024.mixtuura.fi/tapahtuma/slovakia-ukraina-lohko-e/
LOCATION:Düsseldorf: Merkur Spiel-Arena
CATEGORIES:Lohko E,ottelut
ATTACH;FMTTYPE=image/jpeg:https://emfutis2024.mixtuura.fi/wp-content/uploads/2024/06/nco2rpjkwgc.jpg
END:VEVENT
BEGIN:VEVENT
DTSTART;TZID=Europe/Helsinki:20240620T220000
DTEND;TZID=Europe/Helsinki:20240620T234500
DTSTAMP:20260422T143532
CREATED:20240604T163321Z
LAST-MODIFIED:20240604T163321Z
UID:10000151-1718920800-1718927100@emfutis2024.mixtuura.fi
SUMMARY:Espanja - Italia. lohko B
DESCRIPTION:alkusarjan ottelu \nkierros 2
URL:https://emfutis2024.mixtuura.fi/tapahtuma/espanja-italia-lohko-b/
LOCATION:Gelsenkirchen: Arena AufSchalke\, Gelsenkirchen: Arena AufSchalke\, Gelsenkirchen\, Saksa
CATEGORIES:Lohko B,ottelut
ATTACH;FMTTYPE=image/jpeg:https://emfutis2024.mixtuura.fi/wp-content/uploads/2024/06/helvpgjam3u-1.jpg
END:VEVENT
BEGIN:VEVENT
DTSTART;TZID=Europe/Helsinki:20240620T190000
DTEND;TZID=Europe/Helsinki:20240620T204600
DTSTAMP:20260422T143532
CREATED:20240604T163131Z
LAST-MODIFIED:20240604T163131Z
UID:10000150-1718910000-1718916360@emfutis2024.mixtuura.fi
SUMMARY:Tanska - Englanti\, lohko C
DESCRIPTION:alkusarjan ottelu \nkierros 2 \n 
URL:https://emfutis2024.mixtuura.fi/tapahtuma/tanska-englanti-lohko-c/
LOCATION:Frankfurt: Waldstadion\, Frankfurt: Waldstadion\, Frankfurt\, Saksa
CATEGORIES:Lohko C,ottelut
ATTACH;FMTTYPE=image/jpeg:https://emfutis2024.mixtuura.fi/wp-content/uploads/2024/06/ldvsz3owwy.jpg
END:VEVENT
BEGIN:VEVENT
DTSTART;TZID=Europe/Helsinki:20240620T160000
DTEND;TZID=Europe/Helsinki:20240620T174500
DTSTAMP:20260422T143532
CREATED:20240604T162920Z
LAST-MODIFIED:20240604T162920Z
UID:10000149-1718899200-1718905500@emfutis2024.mixtuura.fi
SUMMARY:Slovenia - Serbia\, lohko C
DESCRIPTION:alkusarjan ottelu \n2. kierros
URL:https://emfutis2024.mixtuura.fi/tapahtuma/slovenia-serbia-lohko-c/
LOCATION:München: Allianz Arena\, München: Allianz Arena\, München\, Saksa
CATEGORIES:Lohko C,ottelut
ATTACH;FMTTYPE=image/jpeg:https://emfutis2024.mixtuura.fi/wp-content/uploads/2024/06/zbpahkfhae.jpg
END:VEVENT
BEGIN:VEVENT
DTSTART;TZID=Europe/Helsinki:20240619T220000
DTEND;TZID=Europe/Helsinki:20240619T234500
DTSTAMP:20260422T143532
CREATED:20240604T162713Z
LAST-MODIFIED:20240604T162713Z
UID:10000148-1718834400-1718840700@emfutis2024.mixtuura.fi
SUMMARY:Skotlanti - Sveitsi\, lohko A
DESCRIPTION:alkusarjan ottelu \n2. kierros \n 
URL:https://emfutis2024.mixtuura.fi/tapahtuma/skotlanti-sveitsi-lohko-a/
LOCATION:Köln: RheinEnergieStadion\, Köln: RheinEnergieStadion\, Köln\, Saksa
CATEGORIES:Lohko A,ottelut
ATTACH;FMTTYPE=image/jpeg:https://emfutis2024.mixtuura.fi/wp-content/uploads/2024/06/k769otv8ohq.jpg
END:VEVENT
BEGIN:VEVENT
DTSTART;TZID=Europe/Helsinki:20240619T190000
DTEND;TZID=Europe/Helsinki:20240619T204500
DTSTAMP:20260422T143532
CREATED:20240604T162241Z
LAST-MODIFIED:20240604T162241Z
UID:10000147-1718823600-1718829900@emfutis2024.mixtuura.fi
SUMMARY:Saksa - Unkari\, lohko A
DESCRIPTION:alkusarjan ottelu \n 
URL:https://emfutis2024.mixtuura.fi/tapahtuma/saksa-unkari-lohko-a/
LOCATION:Stuttgart: Mercedes-Benz Arena\, Stuttgart: Mercedes-Benz Arena\, Stuttgart\, Saksa
CATEGORIES:Lohko A,ottelut
ATTACH;FMTTYPE=image/jpeg:https://emfutis2024.mixtuura.fi/wp-content/uploads/2024/06/rv9crq4y4qq.jpg
END:VEVENT
BEGIN:VEVENT
DTSTART;TZID=Europe/Helsinki:20240619T160000
DTEND;TZID=Europe/Helsinki:20240619T174500
DTSTAMP:20260422T143532
CREATED:20240604T162111Z
LAST-MODIFIED:20240604T162111Z
UID:10000146-1718812800-1718819100@emfutis2024.mixtuura.fi
SUMMARY:Kroatia - Albania\, lohko B
DESCRIPTION:alkusarjan ottelu \n 
URL:https://emfutis2024.mixtuura.fi/tapahtuma/kroatia-albania-lohko-b/
LOCATION:Hampuri: Volksparkstadion\, Hampuri: Volksparkstadion\, Hampuri\, Saksa
CATEGORIES:Lohko B,ottelut
ATTACH;FMTTYPE=image/jpeg:https://emfutis2024.mixtuura.fi/wp-content/uploads/2024/06/uberjmnzp-w.jpg
END:VEVENT
BEGIN:VEVENT
DTSTART;TZID=Europe/Helsinki:20240618T220000
DTEND;TZID=Europe/Helsinki:20240618T234500
DTSTAMP:20260422T143532
CREATED:20240604T120345Z
LAST-MODIFIED:20240604T120345Z
UID:10000145-1718748000-1718754300@emfutis2024.mixtuura.fi
SUMMARY:Portugali - Tsekki\, lohko F
DESCRIPTION:alkusarjan ottelu
URL:https://emfutis2024.mixtuura.fi/tapahtuma/portugali-tsekki-lohko-f/
LOCATION:Leipzig: Red Bull Arena\, Leipzig: Red Bull Arena\, Leipzig\, Saksa
CATEGORIES:Lohko F,ottelut
ATTACH;FMTTYPE=image/jpeg:https://emfutis2024.mixtuura.fi/wp-content/uploads/2024/06/d_v_it9qqxo.jpg
END:VEVENT
BEGIN:VEVENT
DTSTART;TZID=Europe/Helsinki:20240618T190000
DTEND;TZID=Europe/Helsinki:20240618T210000
DTSTAMP:20260422T143532
CREATED:20240604T120133Z
LAST-MODIFIED:20240604T120133Z
UID:10000144-1718737200-1718744400@emfutis2024.mixtuura.fi
SUMMARY:Turkki - Georgia\, lohko F
DESCRIPTION:alkusarjan ottelu
URL:https://emfutis2024.mixtuura.fi/tapahtuma/turkki-georgia-lohko-f/
LOCATION:Dortmund: Westfalenstadion
CATEGORIES:Lohko F,ottelut
ATTACH;FMTTYPE=image/jpeg:https://emfutis2024.mixtuura.fi/wp-content/uploads/2024/06/emndy44fus8.jpg
END:VEVENT
BEGIN:VEVENT
DTSTART;TZID=Europe/Helsinki:20240617T220000
DTEND;TZID=Europe/Helsinki:20240617T234500
DTSTAMP:20260422T143532
CREATED:20240604T115627Z
LAST-MODIFIED:20240604T115627Z
UID:10000143-1718661600-1718667900@emfutis2024.mixtuura.fi
SUMMARY:Itävalta – Ranska\, lohko D
DESCRIPTION:alkusarjan ottelu
URL:https://emfutis2024.mixtuura.fi/tapahtuma/itavalta-ranska-lohko-d/
LOCATION:Düsseldorf: Merkur Spiel-Arena
CATEGORIES:Lohko D,ottelut
ATTACH;FMTTYPE=image/jpeg:https://emfutis2024.mixtuura.fi/wp-content/uploads/2024/06/wrpqciwpzo.jpg
END:VEVENT
BEGIN:VEVENT
DTSTART;TZID=Europe/Helsinki:20240617T190000
DTEND;TZID=Europe/Helsinki:20240617T204500
DTSTAMP:20260422T143532
CREATED:20240604T115437Z
LAST-MODIFIED:20240604T164619Z
UID:10000142-1718650800-1718657100@emfutis2024.mixtuura.fi
SUMMARY:Belgia – Slovakia\, lohko E
DESCRIPTION:alkusarjan ottelu
URL:https://emfutis2024.mixtuura.fi/tapahtuma/belgia-slovakia-lohko-e/
LOCATION:Frankfurt: Waldstadion\, Frankfurt: Waldstadion\, Frankfurt\, Saksa
CATEGORIES:Lohko E,ottelut
ATTACH;FMTTYPE=image/jpeg:https://emfutis2024.mixtuura.fi/wp-content/uploads/2024/06/w-kxffcyqsu.jpg
END:VEVENT
BEGIN:VEVENT
DTSTART;TZID=Europe/Helsinki:20240616T190000
DTEND;TZID=Europe/Helsinki:20240616T204500
DTSTAMP:20260422T143532
CREATED:20240604T115148Z
LAST-MODIFIED:20240604T161557Z
UID:10000141-1718564400-1718570700@emfutis2024.mixtuura.fi
SUMMARY:Slovenia -Tanska\, lohko C
DESCRIPTION:alkusarjan ottelu
URL:https://emfutis2024.mixtuura.fi/tapahtuma/slovenia-tanska-lohko-c/
LOCATION:Stuttgart: Mercedes-Benz Arena\, Stuttgart: Mercedes-Benz Arena\, Stuttgart\, Saksa
CATEGORIES:Lohko C,ottelut
ATTACH;FMTTYPE=image/jpeg:https://emfutis2024.mixtuura.fi/wp-content/uploads/2024/06/jxqtuzimhbe.jpg
END:VEVENT
BEGIN:VEVENT
DTSTART;TZID=Europe/Helsinki:20240617T160000
DTEND;TZID=Europe/Helsinki:20240617T174500
DTSTAMP:20260422T143532
CREATED:20240604T114937Z
LAST-MODIFIED:20240604T114937Z
UID:10000140-1718640000-1718646300@emfutis2024.mixtuura.fi
SUMMARY:Romania - Ukraina\, lohko E
DESCRIPTION:alkusarjan ottelu
URL:https://emfutis2024.mixtuura.fi/tapahtuma/romania-ukraina-lohko-e/
LOCATION:München: Allianz Arena\, München: Allianz Arena\, München\, Saksa
CATEGORIES:Lohko E,ottelut
ATTACH;FMTTYPE=image/jpeg:https://emfutis2024.mixtuura.fi/wp-content/uploads/2024/06/eh7rn7yizk8.jpg
END:VEVENT
BEGIN:VEVENT
DTSTART;TZID=Europe/Helsinki:20240616T220000
DTEND;TZID=Europe/Helsinki:20240616T234500
DTSTAMP:20260422T143532
CREATED:20240604T114423Z
LAST-MODIFIED:20240604T161820Z
UID:10000139-1718575200-1718581500@emfutis2024.mixtuura.fi
SUMMARY:Serbia - Englanti\, lohko C
DESCRIPTION:alkusarjan ottelu
URL:https://emfutis2024.mixtuura.fi/tapahtuma/serbia-englanti-lohko-c/
LOCATION:Gelsenkirchen: Arena AufSchalke\, Gelsenkirchen: Arena AufSchalke\, Gelsenkirchen\, Saksa
CATEGORIES:Lohko C,ottelut
ATTACH;FMTTYPE=image/jpeg:https://emfutis2024.mixtuura.fi/wp-content/uploads/2024/06/zpapltle1mw.jpg
END:VEVENT
BEGIN:VEVENT
DTSTART;TZID=Europe/Helsinki:20240616T160000
DTEND;TZID=Europe/Helsinki:20240616T174500
DTSTAMP:20260422T143532
CREATED:20240604T113633Z
LAST-MODIFIED:20240604T113633Z
UID:10000138-1718553600-1718559900@emfutis2024.mixtuura.fi
SUMMARY:Puola - Hollanti\, lohko D
DESCRIPTION:lohko D \nalkusarjan ottelu
URL:https://emfutis2024.mixtuura.fi/tapahtuma/puola-hollanti-lohko-d/
LOCATION:Hampuri: Volksparkstadion\, Hampuri: Volksparkstadion\, Hampuri\, Saksa
CATEGORIES:Lohko D,ottelut
ATTACH;FMTTYPE=image/jpeg:https://emfutis2024.mixtuura.fi/wp-content/uploads/2024/06/9pfk1fr_5kq.jpg
END:VEVENT
BEGIN:VEVENT
DTSTART;TZID=Europe/Helsinki:20240615T220000
DTEND;TZID=Europe/Helsinki:20240615T234500
DTSTAMP:20260422T143532
CREATED:20240604T112747Z
LAST-MODIFIED:20240604T113218Z
UID:10000137-1718488800-1718495100@emfutis2024.mixtuura.fi
SUMMARY:Italia - Albania\, lohko B
DESCRIPTION:
URL:https://emfutis2024.mixtuura.fi/tapahtuma/italia-albania-lohko-b/
LOCATION:Dortmund: Westfalenstadion
CATEGORIES:Lohko B,ottelut
ATTACH;FMTTYPE=image/jpeg:https://emfutis2024.mixtuura.fi/wp-content/uploads/2024/06/cjdtezpdq1w.jpg
END:VEVENT
BEGIN:VEVENT
DTSTART;TZID=Europe/Helsinki:20240615T190000
DTEND;TZID=Europe/Helsinki:20240615T210000
DTSTAMP:20260422T143532
CREATED:20240604T112347Z
LAST-MODIFIED:20240604T112415Z
UID:10000136-1718478000-1718485200@emfutis2024.mixtuura.fi
SUMMARY:Espanja - Kroatia\, lohko B
DESCRIPTION:lohko B \nalkusarjan ottelu
URL:https://emfutis2024.mixtuura.fi/tapahtuma/espanja-kroatia-lohko-b/
LOCATION:Berliini: Olympiastadion\, Olympiastadion Berlin\, Olympischer Platz 3\, 14053 Berlin\, Germany\, Berliini\, Saksa
CATEGORIES:Lohko B,ottelut
ATTACH;FMTTYPE=image/jpeg:https://emfutis2024.mixtuura.fi/wp-content/uploads/2024/06/helvpgjam3u.jpg
END:VEVENT
BEGIN:VEVENT
DTSTART;TZID=Europe/Helsinki:20240615T160000
DTEND;TZID=Europe/Helsinki:20240615T174500
DTSTAMP:20260422T143532
CREATED:20240604T111839Z
LAST-MODIFIED:20240604T111839Z
UID:10000135-1718467200-1718473500@emfutis2024.mixtuura.fi
SUMMARY:Unkari - Sveitsi\, lohko A
DESCRIPTION:A-lohko \nalkusarjan 1. kierros
URL:https://emfutis2024.mixtuura.fi/tapahtuma/unkari-sveitsi-lohko-a/
LOCATION:Köln: RheinEnergieStadion\, Köln: RheinEnergieStadion\, Köln\, Saksa
CATEGORIES:Lohko A,ottelut
ATTACH;FMTTYPE=image/jpeg:https://emfutis2024.mixtuura.fi/wp-content/uploads/2024/06/k-ihp4s96qs.jpg
END:VEVENT
BEGIN:VEVENT
DTSTART;TZID=Europe/Helsinki:20240614T220000
DTEND;TZID=Europe/Helsinki:20240614T234500
DTSTAMP:20260422T143532
CREATED:20240604T111207Z
LAST-MODIFIED:20240604T113121Z
UID:10000134-1718402400-1718408700@emfutis2024.mixtuura.fi
SUMMARY:Saksa - Skotlanti\, lohko A
DESCRIPTION:A-lohko \nalkusarjan ottelu \n 
URL:https://emfutis2024.mixtuura.fi/tapahtuma/saksa-skotlanti-a-lohko/
LOCATION:München: Allianz Arena\, München: Allianz Arena\, München\, Saksa
CATEGORIES:Lohko A,ottelut
ATTACH;FMTTYPE=image/jpeg:https://emfutis2024.mixtuura.fi/wp-content/uploads/2024/06/x0e5hsxl4g0.jpg
END:VEVENT
BEGIN:VEVENT
DTSTART;TZID=Europe/Helsinki:20240714T220000
DTEND;TZID=Europe/Helsinki:20240714T234500
DTSTAMP:20260422T143532
CREATED:20240602T141242Z
LAST-MODIFIED:20240710T210804Z
UID:10000067-1720994400-1721000700@emfutis2024.mixtuura.fi
SUMMARY:Finaali: EM-futis 2024 / Espanja - Englanti
DESCRIPTION:EM-kisojen loppuottelu\nvälierä I voittaja – välierä II voittaja \nEspanja – Englanti \nWinner Takes It All eikö vaan? \n\n 
URL:https://emfutis2024.mixtuura.fi/tapahtuma/em-kisat-2024-finaali-espanja-englanti/
LOCATION:Berliini: Olympiastadion\, Olympiastadion Berlin\, Olympischer Platz 3\, 14053 Berlin\, Germany\, Berliini\, Saksa
CATEGORIES:loppuottelu,ottelut,pudotuspelit
ATTACH;FMTTYPE=image/jpeg:https://emfutis2024.mixtuura.fi/wp-content/uploads/2024/06/z1qxuekhxos.jpg
END:VEVENT
END:VCALENDAR